BEGIN:VCALENDAR
PRODID:-//dvv-bw.de//dvv.Portalplattform//DE
VERSION:2.0
METHOD:PUBLISH
BEGIN:VEVENT
DTSTART:20260423T140000Z
DTEND:20260423T160000Z
DTSTAMP:20260423T140000Z
UID:57745753-57745652-1776895200000
SUMMARY:Kostenlose Energieberatung: So entdecken Haushalte versteckte Sparpotenziale
LOCATION:Rathaus Waldenburg\, Hauptstraße 13
DESCRIPTION:Experten des Klima-Zentrums Hohenlohekreis unterstützen Privatpersonen bei Photovoltaik\, neuen Heizungen\, Wärmedämmung und hohen Energiekosten – unabhängig und kostenfrei. Immobilienbesitzer\, Mieter und Bauherren erhalten praxisnahe Tipps\, um ihre vier Wände zukunftssicher zu machen. \nDie persönlichen Beratungen sind unentgeltlich und produktneutral. Sie richten sich an Privatpersonen im gesamten Hohenlohekreis\, die ihr Zuhause energetisch modernisieren oder ein Neubauvorhaben planen. Auch bei akut hohen Heiz- oder Stromkosten erhalten Ratsuchende konkrete Hinweise\, wie sie kurzfristig sparen und langfristig investieren können.
CLASS:PUBLIC
X-ALT-DESC;FMTTYPE=text/html:Experten des Klima-Zentrums Hohenlohekreis unterstützen Privatpersonen bei Photovoltaik\, neuen Heizungen\, Wärmedämmung und hohen Energiekosten &ndash; unabhängig und kostenfrei. Immobilienbesitzer\, Mieter und Bauherren erhalten praxisnahe Tipps\, um ihre vier Wände zukunftssicher zu machen. <br>Die persönlichen Beratungen sind unentgeltlich und produktneutral. Sie richten sich an Privatpersonen im gesamten Hohenlohekreis\, die ihr Zuhause energetisch modernisieren oder ein Neubauvorhaben planen. Auch bei akut hohen Heiz- oder Stromkosten erhalten Ratsuchende konkrete Hinweise\, wie sie kurzfristig sparen und langfristig investieren können.
END:VEVENT
END:VCALENDAR
