BEGIN:VCALENDAR
PRODID:-//dvv-bw.de//dvv.Portalplattform//DE
VERSION:2.0
METHOD:PUBLISH
BEGIN:VEVENT
DTSTART:20260429T073000Z
DTEND:20260429T090000Z
DTSTAMP:20260423T162607Z
UID:57537654-57537554-1777413600000
SUMMARY:Online-Vortrag ,,B(r)eikost"
LOCATION:Online
DESCRIPTION:Wie gelingt eine gesunde und bedarfsgerechte Einführung von Beikost bei Babys – und worauf sollten Eltern besonders achten? Diesen Fragen widmet sich der Online-Vortrag „B(r)eikost“ am Mittwoch\, 29. April 2026\, von 9.30 bis ungefähr 11 Uhr.
CLASS:PUBLIC
X-ALT-DESC;FMTTYPE=text/html:Wie gelingt eine gesunde und bedarfsgerechte Einführung von Beikost bei Babys &ndash; und worauf sollten Eltern besonders achten? Diesen Fragen widmet sich der Online-Vortrag &bdquo;B(r)eikost&ldquo; am Mittwoch\, 29. April 2026\, von 9.30 bis ungefähr 11 Uhr.
END:VEVENT
END:VCALENDAR
