BEGIN:VCALENDAR
PRODID:-//dvv-bw.de//dvv.Portalplattform//DE
VERSION:2.0
METHOD:PUBLISH
BEGIN:VEVENT
DTSTART:20260505T220000Z
DTEND:20260506T220000Z
DTSTAMP:20260423T162628Z
RRULE;FREQ=DAILY;UNTIL=20260507T215959Z
UID:50979001-50978901-1778018400000
SUMMARY:Praxis-Kurs: Sanierung von Weinbergtrockenmauern in Ingelfingen
DESCRIPTION:Terrassierte Weinbaulagen mit Trockenmauern prägen das unverwechselbare Landschaftsbild Baden-Württembergs. Um dieses ökologisch wertvolle Kulturgut zu schützen\, bietet die Staatliche Lehr- und Versuchsanstalt für Gartenbau Heidelberg (LVG) gemeinsam mit Martin Bücheler\, Garten- und Landschaftsbau Stuttgart\, und dem Landschaftserhaltungsverband Hohenlohekreis e. V. als Partner vor Ort einen 2-tägigen Praxiskurs zur Sanierung von Weinbergtrockenmauern an. \nDie Landesregierung unterstützt den Erhalt von Weinberglagen und Trockenmauern durch verschiedene Fördermöglichkeiten\, die finanzielle Anreize mit praktischen Anleitungen für Bewirtschafterinnen und Bewirtschafter verbinden. Am Mittwoch\, 6. Mai 2026\, und Donnerstag\, 7. Mai 2026\, erlernen 10 Teilnehmerinnen und Teilnehmer nach einer theoretischen Einführung unter Anleitung erfahrener Feldmaurer\, wie sanierungsbedürftige und teilweise eingefallene Weinbergtrockenmauern wiederaufgebaut werden.
CLASS:PUBLIC
X-ALT-DESC;FMTTYPE=text/html:Terrassierte Weinbaulagen mit Trockenmauern prägen das unverwechselbare Landschaftsbild Baden-Württembergs. Um dieses ökologisch wertvolle Kulturgut zu schützen\, bietet die Staatliche Lehr- und Versuchsanstalt für Gartenbau Heidelberg (LVG) gemeinsam mit Martin Bücheler\, Garten- und Landschaftsbau Stuttgart\, und dem Landschaftserhaltungsverband Hohenlohekreis e. V. als Partner vor Ort einen 2-tägigen Praxiskurs zur Sanierung von Weinbergtrockenmauern an. <br>Die Landesregierung unterstützt den Erhalt von Weinberglagen und Trockenmauern durch verschiedene Fördermöglichkeiten\, die finanzielle Anreize mit praktischen Anleitungen für Bewirtschafterinnen und Bewirtschafter verbinden. Am Mittwoch\, 6. Mai 2026\, und Donnerstag\, 7. Mai 2026\, erlernen 10 Teilnehmerinnen und Teilnehmer nach einer theoretischen Einführung unter Anleitung erfahrener Feldmaurer\, wie sanierungsbedürftige und teilweise eingefallene Weinbergtrockenmauern wiederaufgebaut werden.
END:VEVENT
END:VCALENDAR
